BEGIN:VCALENDAR
VERSION:2.0
PRODID:-//NETZ &amp; WERK - ECPv6.15.20//NONSGML v1.0//EN
CALSCALE:GREGORIAN
METHOD:PUBLISH
X-ORIGINAL-URL:https://netzundwerk.com
X-WR-CALDESC:Veranstaltungen für NETZ &amp; WERK
REFRESH-INTERVAL;VALUE=DURATION:PT1H
X-Robots-Tag:noindex
X-PUBLISHED-TTL:PT1H
BEGIN:VTIMEZONE
TZID:Europe/Berlin
BEGIN:DAYLIGHT
TZOFFSETFROM:+0100
TZOFFSETTO:+0200
TZNAME:CEST
DTSTART:20230326T010000
END:DAYLIGHT
BEGIN:STANDARD
TZOFFSETFROM:+0200
TZOFFSETTO:+0100
TZNAME:CET
DTSTART:20231029T010000
END:STANDARD
BEGIN:DAYLIGHT
TZOFFSETFROM:+0100
TZOFFSETTO:+0200
TZNAME:CEST
DTSTART:20240331T010000
END:DAYLIGHT
BEGIN:STANDARD
TZOFFSETFROM:+0200
TZOFFSETTO:+0100
TZNAME:CET
DTSTART:20241027T010000
END:STANDARD
BEGIN:DAYLIGHT
TZOFFSETFROM:+0100
TZOFFSETTO:+0200
TZNAME:CEST
DTSTART:20250330T010000
END:DAYLIGHT
BEGIN:STANDARD
TZOFFSETFROM:+0200
TZOFFSETTO:+0100
TZNAME:CET
DTSTART:20251026T010000
END:STANDARD
END:VTIMEZONE
BEGIN:VEVENT
DTSTART;TZID=Europe/Berlin:20240425T173000
DTEND;TZID=Europe/Berlin:20240425T203000
DTSTAMP:20260421T165250
CREATED:20240415T145104Z
LAST-MODIFIED:20240415T151221Z
UID:9759-1714066200-1714077000@netzundwerk.com
SUMMARY:Innovation Talk Augsburg: AGILITÄT BRAUCHT STABILITÄT - LEADERSHIP MINDSET IN STÜRMISCHEN ZEITEN
DESCRIPTION:Wir möchten euch herzlich zu einem inspirierenden Event im Rahmen des Netzwerks des Cross-Mentoring Augsburg einladen! \nAm Donnerstag\, den 25. April findet unser „Innovation Talk Augsburg – Vernetzung in der Region“ statt.\nEs erwartet euch ein Abend voller spannender Einblicke und anregenden Gespräche. \nNutzt die Möglichkeit euch branchen- und tätigkeitsbezogen zu vernetzen und gemeinsam über den Tellerrand zu blicken! \nUnsere hochkarätigen Speaker*innen liefern praxisnahe Impulse zum Thema „Thema „AGILITÄT BRAUCHT STABILITÄT – LEADERSHIP MINDSET IN STÜRMISCHEN ZEITEN“. Ihr erfahrt\, welche Strukturen\, Kompetenzen und kulturellen Faktoren ein krisenfestes Leadership-Mindset fördern und Krisenresilienz stärken kann.\nUnsere Impulsgeber*innen sind:\n·      Sabine Ardey\, Direktorin des Instituts „Test und Simulation für Gasturbinen“ am Deutschen Zentrum für Luft- und Raumfahrt\n·      Anke Bartel\, Abteilungsleiterin Serviceunterstützung bei swa Netze\n·      Dr. Andreas Bauer\, Prokurist bei Xitaso und CEO Strategy & Business Development bei PLANFOX\n·      Jessica Rademacher of User Experience bei KUKA\n·      Thorsten Rinne\, Deputy Head of Web Engineering bei MaibornWolff\n·      Christoph Steinle\, Geschäftsführer von Spin & Gin GmbH / AUGUST Gin \nIm Anschluss an die Impulsvorträge öffnen wir den Dialog für den unternehmensübergreifenden Austausch an Thementischen. Der Abend endet mit einem Imbiss mit Get-together. \nSichert euch schnell euren Platz\, indem ihr euch bis zum 19. April 2024 anmeldet. Wir freuen uns auf euch und einen inspirierenden Abend!\nBei Fragen meldet euch gerne bei Annina Zogg\, Programm-Managerin des Cross-Mentoring Augsburg. \nHier zur Anmeldung: https://lnkd.in/deGaD9Dr
URL:https://netzundwerk.com/event/innovation-talk-augsburg-agilitaet-braucht-stabilitaet-leadership-mindset-in-stuermischen-zeiten/
LOCATION:Hettenbach45\, Flurstraße 45\, Augsburg\, 86154
CATEGORIES:innovation
ATTACH;FMTTYPE=image/jpeg:https://netzundwerk.com/wp-content/uploads/2022/07/Keyvisual_mit-Datum.jpg
END:VEVENT
END:VCALENDAR