BEGIN:VCALENDAR
VERSION:2.0
PRODID:-//NETZ &amp; WERK - ECPv6.15.20//NONSGML v1.0//EN
CALSCALE:GREGORIAN
METHOD:PUBLISH
X-WR-CALNAME:NETZ &amp; WERK
X-ORIGINAL-URL:https://netzundwerk.com
X-WR-CALDESC:Veranstaltungen für NETZ &amp; WERK
REFRESH-INTERVAL;VALUE=DURATION:PT1H
X-Robots-Tag:noindex
X-PUBLISHED-TTL:PT1H
BEGIN:VTIMEZONE
TZID:Europe/Berlin
BEGIN:DAYLIGHT
TZOFFSETFROM:+0100
TZOFFSETTO:+0200
TZNAME:CEST
DTSTART:20240331T010000
END:DAYLIGHT
BEGIN:STANDARD
TZOFFSETFROM:+0200
TZOFFSETTO:+0100
TZNAME:CET
DTSTART:20241027T010000
END:STANDARD
BEGIN:DAYLIGHT
TZOFFSETFROM:+0100
TZOFFSETTO:+0200
TZNAME:CEST
DTSTART:20250330T010000
END:DAYLIGHT
BEGIN:STANDARD
TZOFFSETFROM:+0200
TZOFFSETTO:+0100
TZNAME:CET
DTSTART:20251026T010000
END:STANDARD
BEGIN:DAYLIGHT
TZOFFSETFROM:+0100
TZOFFSETTO:+0200
TZNAME:CEST
DTSTART:20260329T010000
END:DAYLIGHT
BEGIN:STANDARD
TZOFFSETFROM:+0200
TZOFFSETTO:+0100
TZNAME:CET
DTSTART:20261025T010000
END:STANDARD
END:VTIMEZONE
BEGIN:VEVENT
DTSTART;TZID=Europe/Berlin:20250313T180000
DTEND;TZID=Europe/Berlin:20250313T213000
DTSTAMP:20260423T023346
CREATED:20250122T101951Z
LAST-MODIFIED:20250122T102351Z
UID:10594-1741888800-1741901400@netzundwerk.com
SUMMARY:femme.digitale 2025 | TWG Meetup #23 @Modehaus JUNG
DESCRIPTION:After Work\, Mind Mapping & Networking \nDie Meetup-Reihe „Together We Grow“ (TWG) von amore augsburg schafft einen Freiraum\, in dem die Kreativ- & Startup-Szene\, Selbstständige und Freelancer auf etablierte Unternehmen aus dem Mittelstand treffen\, um sich gegenseitig zu stärken. Das Thema dieses Mal: \nfemme.digitale\nDie Bühne gehört einen Abend lang den Visionärinnen unserer Stadt. Denn die femme.digitale stellt Gründerinnen\, Geschäftsfüherinnen und weibliche Führungskräfte in den Fokus. Das Publikum besteht wie immer aus inspirierenden Persönlichkeiten aus Augsburg und Umgebung\, Unternehmer\, Vorreiterinnen etc. \nProgramm:\n18:00 Uhr | Einlass & Networking \n18:30 Uhr | Begrüßung \n\ntba\n\n18:45 Uhr | TALK \n\nRamona Meinzer\, CEO aumüller GmbH\nUlrike Werlitz\, Einrichtungsleitung Compassio\ntba\ntba\n\n• Moderation: Anahit Hagemann (CEO NETZ & WERK) \n19:45 Uhr | Freies Networking \nDie Hosts des Events: BARMER\, aumüller\, Modehaus JUNG \nExklusive Partner:\nLenovo | BARMER \nPremium-Partner:\nRegio Augsburg Wirtschaft | IHK Schwaben | aumüller \nPartner:\nAugsburg Marketing | lexRocket | Brauhaus Riegele | MXP GmbH | Feuerwehrerlebniswelt | Spin & Gin | Modehaus JUNG \nSchirmherrin: OB Eva Weber \nWährend des Events werden Ton-\, Bild- und Videoaufnahmen gemacht und auf Social Media sowie der Webseite als Bilder\, Audio- und/oder Videomedium publiziert. Mit der Teilnahme an der Veranstaltung erklären Sie sich damit einverstanden\, dass diese zeitlich und räumlich uneingeschränkt für oben genannte Zwecke verwendet werden dürfen und Sie kein Entgelt für die Veröffentlichung erhalten. \nMit der Anmeldung zur Veranstaltungen stimmen Sie den AGB (Events) und den Datenschutzbestimmungen (Events) von amore augsburg zu. \n#togetherwegrow #supportyourlocals #startupmitamore #amore augsburg
URL:https://netzundwerk.com/event/femme-digitale-2025-augsburg-twg-meetup/
LOCATION:Modehaus JUNG\, Wertachstraße 1\, Augsburg\, 86153
CATEGORIES:femme.digital,meetup,togetherwegrow
ATTACH;FMTTYPE=image/jpeg:https://netzundwerk.com/wp-content/uploads/2023/03/0075-Digitalk-00938.jpg
ORGANIZER;CN="NETZ & WERK":MAILTO:hallo@netzundwerk.com
END:VEVENT
END:VCALENDAR