BEGIN:VCALENDAR
VERSION:2.0
PRODID:-//NETZ &amp; WERK - ECPv6.15.20//NONSGML v1.0//EN
CALSCALE:GREGORIAN
METHOD:PUBLISH
X-ORIGINAL-URL:https://netzundwerk.com
X-WR-CALDESC:Veranstaltungen für NETZ &amp; WERK
REFRESH-INTERVAL;VALUE=DURATION:PT1H
X-Robots-Tag:noindex
X-PUBLISHED-TTL:PT1H
BEGIN:VTIMEZONE
TZID:Europe/Berlin
BEGIN:DAYLIGHT
TZOFFSETFROM:+0100
TZOFFSETTO:+0200
TZNAME:CEST
DTSTART:20220327T010000
END:DAYLIGHT
BEGIN:STANDARD
TZOFFSETFROM:+0200
TZOFFSETTO:+0100
TZNAME:CET
DTSTART:20221030T010000
END:STANDARD
BEGIN:DAYLIGHT
TZOFFSETFROM:+0100
TZOFFSETTO:+0200
TZNAME:CEST
DTSTART:20230326T010000
END:DAYLIGHT
BEGIN:STANDARD
TZOFFSETFROM:+0200
TZOFFSETTO:+0100
TZNAME:CET
DTSTART:20231029T010000
END:STANDARD
BEGIN:DAYLIGHT
TZOFFSETFROM:+0100
TZOFFSETTO:+0200
TZNAME:CEST
DTSTART:20240331T010000
END:DAYLIGHT
BEGIN:STANDARD
TZOFFSETFROM:+0200
TZOFFSETTO:+0100
TZNAME:CET
DTSTART:20241027T010000
END:STANDARD
END:VTIMEZONE
BEGIN:VEVENT
DTSTART;TZID=Europe/Berlin:20231012T180000
DTEND;TZID=Europe/Berlin:20231012T210000
DTSTAMP:20260421T163543
CREATED:20230923T114213Z
LAST-MODIFIED:20230929T100130Z
UID:9267-1697133600-1697144400@netzundwerk.com
SUMMARY:Fuckup Night der IHK Schwaben: Aus Fehlern lernen
DESCRIPTION:Fehler\, Versäumnisse\, Irrtümer – passieren. Selbst den bekanntesten Namen der Startup-Szene.\nNicht jede Gründung ist eine Erfolgsgeschichte. Nicht jede unternehmerische Entscheidung ein\nVolltreffer. Was echte Erfolgsmenschen ausmacht: Mut und Durchhaltevermögen – auch wenn man\nam Abgrund steht. Lasst uns von diesen Gründern lernen. Bei der Fuckup Night der IHK Schwaben am Donnerstag\, 12. Oktober.\n\nEintritt frei\n\n\nWer dabei sein will\, kann sich hier anmelden:\nevents.schwaben.ihk.de/f-up-night
URL:https://netzundwerk.com/event/fuckup-night-der-ihk-schwaben-aus-fehlern-lernen/
LOCATION:Gaswerk\, Am Alten Gaswerk 1\, Augsburg\, 86156\, Deutschland
CATEGORIES:innovation,meetup
ATTACH;FMTTYPE=image/jpeg:https://netzundwerk.com/wp-content/uploads/2023/09/Veranstaltungslogo-2.jpg
END:VEVENT
END:VCALENDAR