BEGIN:VCALENDAR
VERSION:2.0
PRODID:-//NETZ &amp; WERK - ECPv6.15.20//NONSGML v1.0//EN
CALSCALE:GREGORIAN
METHOD:PUBLISH
X-ORIGINAL-URL:https://netzundwerk.com
X-WR-CALDESC:Veranstaltungen für NETZ &amp; WERK
REFRESH-INTERVAL;VALUE=DURATION:PT1H
X-Robots-Tag:noindex
X-PUBLISHED-TTL:PT1H
BEGIN:VTIMEZONE
TZID:Europe/Berlin
BEGIN:DAYLIGHT
TZOFFSETFROM:+0100
TZOFFSETTO:+0200
TZNAME:CEST
DTSTART:20230326T010000
END:DAYLIGHT
BEGIN:STANDARD
TZOFFSETFROM:+0200
TZOFFSETTO:+0100
TZNAME:CET
DTSTART:20231029T010000
END:STANDARD
BEGIN:DAYLIGHT
TZOFFSETFROM:+0100
TZOFFSETTO:+0200
TZNAME:CEST
DTSTART:20240331T010000
END:DAYLIGHT
BEGIN:STANDARD
TZOFFSETFROM:+0200
TZOFFSETTO:+0100
TZNAME:CET
DTSTART:20241027T010000
END:STANDARD
BEGIN:DAYLIGHT
TZOFFSETFROM:+0100
TZOFFSETTO:+0200
TZNAME:CEST
DTSTART:20250330T010000
END:DAYLIGHT
BEGIN:STANDARD
TZOFFSETFROM:+0200
TZOFFSETTO:+0100
TZNAME:CET
DTSTART:20251026T010000
END:STANDARD
END:VTIMEZONE
BEGIN:VEVENT
DTSTART;TZID=Europe/Berlin:20240710T180000
DTEND;TZID=Europe/Berlin:20240710T210000
DTSTAMP:20260421T010742
CREATED:20240603T145742Z
LAST-MODIFIED:20240605T202821Z
UID:10000-1720634400-1720645200@netzundwerk.com
SUMMARY:TWG SPECIAL #20: Handel im Wandel mit Augsburg Marketing @IHK Schwaben
DESCRIPTION:After Work\, Mind Mapping & Networking \nDie Meetup-Reihe „Together We Grow“ (TWG) von amore augsburg vernetzt Unternehmer:innen aus der Region Augsburg und Schwaben. Hier treffen Startups und Selbstständige auf etablierte Unternehmen aus dem Mittelstand. Denn Regionalwirtschaft ist Herzenssache. Das Thema dieses Mal: \nTWG SPECIAL: EINZELHANDEL UND GASTRONOMIE ERFOLGREICH IM WANDEL\nDie Welt des Einzelhandels befindet sich im Umbruch. Um in diesem dynamischen Umfeld erfolgreich zu bleiben\, sind innovative Strategien und eine klare Vision für die Zukunft unerlässlich. Bei unserer exklusiven Veranstaltung „Erfolgreich im Wandel“ erhältst du wertvolle Impulse und praxisnahe Tipps\, wie du dein Geschäft fit für die Zukunft machen kannst. \nLerne von Expert:innen\, wie du die neuesten Trends im Einzelhandel zu deinem Vorteil nutzt. Lass dich inspirieren von erfolgreichen Geschäftsmodellen und setze innovative Konzepte in deinem Unternehmen um. Knüpfe wertvolle Kontakte zu anderen Unternehmer:innen und entwickle gemeinsam mit unseren Expert:innen individuelle Strategien für dein Unternehmen. \nThemen: \n\nVerändertes Kaufverhalten: Begeistere deine Kund:innen auch im Wandel!\nOnline-Wettbewerb: Erfolgreiche Strategien gegen den wachsenden Druck der Online-Händler.\nDigitalisierung: Nutze technologische Fortschritte für einen effizienteren Betrieb.\nDemografischer Wandel: Passe dein Angebot an die neue Kundenstruktur an.\nNachhaltigkeit: Entwickle umweltbewusste Geschäftspraktiken\, die deine Kund:innen und die Umwelt schätzen.\n\nSei dabei und gestalte die Zukunft des Einzelhandels mit! \nProgramm:\n18:00 Uhr | Einlass & Networking \n18:20 Uhr | Begrüßung \n\nFranziska Behrenz\, IHK Schwaben\nCornelia Böhm\, Augsburg Marketing\nAnahit Chachatryan\, amore augsburg\n\n18:35 Uhr | Podiumsdiskussion \nEinzelhändler:innen \n\nChristiane Huber\, Bettenhuber\nAlexander Ferstl\, Modehaus Jung\nDavid Ikic\, RETROAREA\n\nExpertinnen Stadtentwicklung \n\nFranziska Behrenz\, IHK Schwaben\nCornelia Böhm\, Augsburg Marketing\n\nModeration: \n\nAnahit Chachatryan\, amore augsburg\n\n19:35 Uhr | Networking & Ausstellungen \nDie Hosts des Events: IHK Schwaben\, Augsburg Marketing\nExklusive Partner:\nLenovo | BARMER \nPremium-Partner:\nRegio Augsburg Wirtschaft | GO EXPERIENCE | Cross Consult \nPartner:\nPARAMUS Asset Management & Finanzplanung | A ugsburg Marketing | IHK Schwaben | lexRocket | bewegt.content | Brauhaus Riegele | FONTANjA | Depot29 | Spin & Gin \nSchirmherrin: OB Eva Weber \nWährend des Events werden Ton-\, Bild- und Videoaufnahmen gemacht und auf Social Media sowie der Webseite als Bilder\, Audio- und/oder Videomedium publiziert. Mit der Teilnahme an der Veranstaltung erklären Sie sich damit einverstanden\, dass diese zeitlich und räumlich uneingeschränkt für oben genannte Zwecke verwendet werden dürfen und Sie kein Entgelt für die Veröffentlichung erhalten. \nMit der Anmeldung zur Veranstaltungen stimmen Sie den AGB (Events) und den Datenschutzbestimmungen (Events) von amore augsburg zu. \n#togetherwegrow #supportyourlocals #startupmitamore #amore augsburg \nwww.amore-augsburg.com
URL:https://netzundwerk.com/event/twg-special-20-handel-im-wandel-mit-augsburg-marketing-ihk-schwaben/
LOCATION:IHK Schwaben\, Stettenstr. 1\, Augsburg\, 86150
CATEGORIES:togetherwegrow
ATTACH;FMTTYPE=image/webp:https://netzundwerk.com/wp-content/uploads/2023/12/IMG_4548_1_50.webp
END:VEVENT
END:VCALENDAR