BEGIN:VCALENDAR
VERSION:2.0
PRODID:-//NETZ &amp; WERK - ECPv6.15.20//NONSGML v1.0//EN
CALSCALE:GREGORIAN
METHOD:PUBLISH
X-WR-CALNAME:NETZ &amp; WERK
X-ORIGINAL-URL:https://netzundwerk.com
X-WR-CALDESC:Veranstaltungen für NETZ &amp; WERK
REFRESH-INTERVAL;VALUE=DURATION:PT1H
X-Robots-Tag:noindex
X-PUBLISHED-TTL:PT1H
BEGIN:VTIMEZONE
TZID:Europe/Berlin
BEGIN:DAYLIGHT
TZOFFSETFROM:+0100
TZOFFSETTO:+0200
TZNAME:CEST
DTSTART:20240331T010000
END:DAYLIGHT
BEGIN:STANDARD
TZOFFSETFROM:+0200
TZOFFSETTO:+0100
TZNAME:CET
DTSTART:20241027T010000
END:STANDARD
BEGIN:DAYLIGHT
TZOFFSETFROM:+0100
TZOFFSETTO:+0200
TZNAME:CEST
DTSTART:20250330T010000
END:DAYLIGHT
BEGIN:STANDARD
TZOFFSETFROM:+0200
TZOFFSETTO:+0100
TZNAME:CET
DTSTART:20251026T010000
END:STANDARD
BEGIN:DAYLIGHT
TZOFFSETFROM:+0100
TZOFFSETTO:+0200
TZNAME:CEST
DTSTART:20260329T010000
END:DAYLIGHT
BEGIN:STANDARD
TZOFFSETFROM:+0200
TZOFFSETTO:+0100
TZNAME:CET
DTSTART:20261025T010000
END:STANDARD
END:VTIMEZONE
BEGIN:VEVENT
DTSTART;TZID=Europe/Berlin:20250407T183000
DTEND;TZID=Europe/Berlin:20250407T203000
DTSTAMP:20260420T062113
CREATED:20250127T154445Z
LAST-MODIFIED:20250207T080430Z
UID:10617-1744050600-1744057800@netzundwerk.com
SUMMARY:Zeitsparend Content produzieren – Tools & Techniken
DESCRIPTION:Die Teilnehmenden erhalten einen Überblick über zeitsparende Techniken und Tools\, um regelmäßig hochwertigen Content zu produzieren\, ohne den Überblick zu verlieren. Außerdem bleibt Zeit\, sich untereinander auszutauschen. \nInhalte:\n● Effiziente Tools: Einführung in Tools wie Canva\, Later und InShot zur schnellen und professionellen Content-Erstellung.\n● Content-Batching: Wie Sie in kurzer Zeit mehrere Beiträge auf einmal erstellen und effizient planen.\n● Automatisierte Planung: Beiträge und Stories im Voraus planen\, um den Social Media Stress zu reduzieren. \nOutcome:\nDie Teilnehmenden wissen\, wie sie Zeit sparen können\, indem sie Content schneller und effizienter erstellen und automatisch planen. \nZielgruppe: \n\nLokale Unternehmen aus Augsburg\, insbesondere solche\, die ihre Online-Präsenz stärken und ihren Umsatz steigern möchten.\nUnternehmer:innen\, die ihr Verständnis für den Aufbau effektiver Verkaufswege vertiefen möchten.\n\nRegulärer Preis: 149\,- €/Teilnehmer:in \nkostenfrei für Mitglieder von Augsburg Marketing (Mehr Infos dazu: https://www.augsburg-marketing.de/digitallotse) \nEin Projekt von Augsburg Marketing in Kooperation mit NETZ & WERK. Dank einer Förderung können wir die Leistungen für den Einzelhandel und Gastro aus Ausgburg kostenfrei anbieten.
URL:https://netzundwerk.com/event/zeitsparend-content-produzieren-tools-techniken/
LOCATION:Zwischenzeit\, Annastraße 16\, Augsburg\, Deutschland
CATEGORIES:Digitallotse,workshop
ATTACH;FMTTYPE=image/png:https://netzundwerk.com/wp-content/uploads/2025/01/Digitallotse-WS-3.png
END:VEVENT
END:VCALENDAR