BEGIN:VCALENDAR
VERSION:2.0
PRODID:-//NETZ &amp; WERK - ECPv6.15.20//NONSGML v1.0//EN
CALSCALE:GREGORIAN
METHOD:PUBLISH
X-ORIGINAL-URL:https://netzundwerk.com
X-WR-CALDESC:Veranstaltungen für NETZ &amp; WERK
REFRESH-INTERVAL;VALUE=DURATION:PT1H
X-Robots-Tag:noindex
X-PUBLISHED-TTL:PT1H
BEGIN:VTIMEZONE
TZID:Europe/Berlin
BEGIN:DAYLIGHT
TZOFFSETFROM:+0100
TZOFFSETTO:+0200
TZNAME:CEST
DTSTART:20240331T010000
END:DAYLIGHT
BEGIN:STANDARD
TZOFFSETFROM:+0200
TZOFFSETTO:+0100
TZNAME:CET
DTSTART:20241027T010000
END:STANDARD
BEGIN:DAYLIGHT
TZOFFSETFROM:+0100
TZOFFSETTO:+0200
TZNAME:CEST
DTSTART:20250330T010000
END:DAYLIGHT
BEGIN:STANDARD
TZOFFSETFROM:+0200
TZOFFSETTO:+0100
TZNAME:CET
DTSTART:20251026T010000
END:STANDARD
BEGIN:DAYLIGHT
TZOFFSETFROM:+0100
TZOFFSETTO:+0200
TZNAME:CEST
DTSTART:20260329T010000
END:DAYLIGHT
BEGIN:STANDARD
TZOFFSETFROM:+0200
TZOFFSETTO:+0100
TZNAME:CET
DTSTART:20261025T010000
END:STANDARD
END:VTIMEZONE
BEGIN:VEVENT
DTSTART;TZID=Europe/Berlin:20250203T183000
DTEND;TZID=Europe/Berlin:20250203T203000
DTSTAMP:20260420T060823
CREATED:20250127T152931Z
LAST-MODIFIED:20250127T153210Z
UID:10603-1738607400-1738614600@netzundwerk.com
SUMMARY:Social Media Basics – Instagram\, Facebook und TikTok richtig einrichten
DESCRIPTION:Die Teilnehmer:innen lernen in dem Workshop\, welchen Nutzen Social Media für sie bringt und welche Kanäle zu ihnen passen. Sie richten ihre Accounts ein und haben die Gelegenheit\, Erfahrungen auszutauschen. \nInhalte:\n● Profile professionell gestalten: Schritt-für-Schritt-Anleitung zur Einrichtung von Instagram\, Facebook und TikTok für Unternehmen.\n● Die Einhorn-Methode: Kreative und einfache Content-Ideen entwickeln\, die das Unternehmen von der Masse abheben.\n● Erstellung einer verständlichen Bio: Authentisch\, prägnant und überzeugend\, um Follower sofort zu gewinnen. \nOutcome:\nDie Teilnehmenden haben ihre Profile vollständig eingerichtet\, wissen\, wie sie ihre Bio gestalten\, und haben erste Content-Ideen für Posts entwickelt. \nZielgruppe: \n\nLokale Unternehmen aus Augsburg\, insbesondere solche\, die ihre Online-Präsenz stärken und ihren Umsatz steigern möchten.\nUnternehmer:innen\, die ihr Verständnis für den Aufbau effektiver Verkaufswege vertiefen möchten.\n\nRegulärer Preis: 149\,- €/Teilnehmer:in \nkostenfrei für Mitglieder von Augsburg Marketing (Mehr Infos dazu: https://www.augsburg-marketing.de/digitallotse) \nEin Projekt von Augsburg Marketing in Kooperation mit NETZ & WERK. Dank einer Förderung können wir die Leistungen für den Einzelhandel und Gastro aus Augsburg kostenfrei anbieten.
URL:https://netzundwerk.com/event/social-media-basics-instagram-facebook-und-tiktok-richtig-einrichten/
LOCATION:Augsburg Marketing\, Karlstr. 2\, Augsburg\, 86150\, Germany
CATEGORIES:Digitallotse,workshop
ATTACH;FMTTYPE=image/jpeg:https://netzundwerk.com/wp-content/uploads/2025/01/Workshops-Digitallotse-1.jpg
END:VEVENT
END:VCALENDAR