BEGIN:VCALENDAR
VERSION:2.0
PRODID:-//NETZ &amp; WERK - ECPv6.15.20//NONSGML v1.0//EN
CALSCALE:GREGORIAN
METHOD:PUBLISH
X-ORIGINAL-URL:https://netzundwerk.com
X-WR-CALDESC:Veranstaltungen für NETZ &amp; WERK
REFRESH-INTERVAL;VALUE=DURATION:PT1H
X-Robots-Tag:noindex
X-PUBLISHED-TTL:PT1H
BEGIN:VTIMEZONE
TZID:Europe/Berlin
BEGIN:DAYLIGHT
TZOFFSETFROM:+0100
TZOFFSETTO:+0200
TZNAME:CEST
DTSTART:20230326T010000
END:DAYLIGHT
BEGIN:STANDARD
TZOFFSETFROM:+0200
TZOFFSETTO:+0100
TZNAME:CET
DTSTART:20231029T010000
END:STANDARD
BEGIN:DAYLIGHT
TZOFFSETFROM:+0100
TZOFFSETTO:+0200
TZNAME:CEST
DTSTART:20240331T010000
END:DAYLIGHT
BEGIN:STANDARD
TZOFFSETFROM:+0200
TZOFFSETTO:+0100
TZNAME:CET
DTSTART:20241027T010000
END:STANDARD
BEGIN:DAYLIGHT
TZOFFSETFROM:+0100
TZOFFSETTO:+0200
TZNAME:CEST
DTSTART:20250330T010000
END:DAYLIGHT
BEGIN:STANDARD
TZOFFSETFROM:+0200
TZOFFSETTO:+0100
TZNAME:CET
DTSTART:20251026T010000
END:STANDARD
END:VTIMEZONE
BEGIN:VEVENT
DTSTART;TZID=Europe/Berlin:20240603T180000
DTEND;TZID=Europe/Berlin:20240603T200000
DTSTAMP:20260421T011610
CREATED:20240404T192533Z
LAST-MODIFIED:20240404T192533Z
UID:9754-1717437600-1717444800@netzundwerk.com
SUMMARY:Instagram Crashkurs – Follower gewinnen & Algorithmus | Digitallotse
DESCRIPTION:Instagram ist auf lokaler Ebene eines der stärksten Instrumente\, um schnell die Markenbekanntheit zu erhöhen und Reichweite zu bekommen. Doch es gibt viele Unklarheiten\, Mythen und skeptische Blickwinkel. Beim zweiten Modul des Digitallotsen beschäftigen wir uns mit dem Thema Instagram-Marketing. \n\nWie gewinne ich Follower in Augsburg?\nWas ist die Einhorn-Methode?\nWie funktioniert der Instagram-Algorithmus? Gibt es nur einen oder mehrere?\nWie nutze ich Reels am Besten?\nGibt es gute Praxisbeispiele?\n\nRegulärer Preis: 149\,- €/Teilnehmer:in \nkostenfrei für Mitglieder von Augsburg Marketing (Mehr Infos dazu: https://amore-augsburg.com/digitallotse/) \nEin Projekt von Augsburg Marketing in Kooperation mit amore augsburg\, gefördert durch die IHK Schwaben. Dank dieser Unterstützung kann amore augsburg die Leistungen für den Einzelhandel und Gastro kostenfrei anbieten.
URL:https://netzundwerk.com/event/instagram-crashkurs-follower-gewinnen-algorithmus-digitallotse/
LOCATION:Regio Augsburg Wirtschaft\, Karlstraße 2\, Augsburg\, 86150
CATEGORIES:Digitallotse,workshop
ATTACH;FMTTYPE=image/jpeg:https://netzundwerk.com/wp-content/uploads/2021/07/1-e1641143249916.jpg
END:VEVENT
END:VCALENDAR