BEGIN:VCALENDAR
VERSION:2.0
PRODID:-//NETZ &amp; WERK - ECPv6.15.20//NONSGML v1.0//EN
CALSCALE:GREGORIAN
METHOD:PUBLISH
X-WR-CALNAME:NETZ &amp; WERK
X-ORIGINAL-URL:https://netzundwerk.com
X-WR-CALDESC:Veranstaltungen für NETZ &amp; WERK
REFRESH-INTERVAL;VALUE=DURATION:PT1H
X-Robots-Tag:noindex
X-PUBLISHED-TTL:PT1H
BEGIN:VTIMEZONE
TZID:Europe/Berlin
BEGIN:DAYLIGHT
TZOFFSETFROM:+0100
TZOFFSETTO:+0200
TZNAME:CEST
DTSTART:20210328T010000
END:DAYLIGHT
BEGIN:STANDARD
TZOFFSETFROM:+0200
TZOFFSETTO:+0100
TZNAME:CET
DTSTART:20211031T010000
END:STANDARD
BEGIN:DAYLIGHT
TZOFFSETFROM:+0100
TZOFFSETTO:+0200
TZNAME:CEST
DTSTART:20220327T010000
END:DAYLIGHT
BEGIN:STANDARD
TZOFFSETFROM:+0200
TZOFFSETTO:+0100
TZNAME:CET
DTSTART:20221030T010000
END:STANDARD
BEGIN:DAYLIGHT
TZOFFSETFROM:+0100
TZOFFSETTO:+0200
TZNAME:CEST
DTSTART:20230326T010000
END:DAYLIGHT
BEGIN:STANDARD
TZOFFSETFROM:+0200
TZOFFSETTO:+0100
TZNAME:CET
DTSTART:20231029T010000
END:STANDARD
END:VTIMEZONE
BEGIN:VEVENT
DTSTART;TZID=Europe/Berlin:20221107T180000
DTEND;TZID=Europe/Berlin:20221107T203000
DTSTAMP:20260422T091602
CREATED:20221012T084350Z
LAST-MODIFIED:20221012T084449Z
UID:8339-1667844000-1667853000@netzundwerk.com
SUMMARY:DIGITALLOTSE IV: Canva Workshop
DESCRIPTION:Gutes Marketing Design muss nicht teuer sein. Heutzutage gibt es zahlreiche Tools\, um relativ einfach selber Inhalte zu erstellen und dabei den Look & feel der eigenen Marke zu kommunizieren. Dieser Workshop ist so konzipiert\, dass Sie danach selbstständig mit dem Tool Canva arbeiten können und damit eigene\, schöne Designs für ihr Instagram\, Facebook\, die Website\, etc. erstellen können. \nWir lernen: \n\nVorlagen in Canva zu nutzen und zu finden\nBeiträge zu erstellen als JPG/PNG z.B. für Instagram\, Facebook oder Website Inhalte\nVideos zu erstellen z.B. für Instagram Stories\n\nSie erstellen während des Workshops direkt ihre ersten eigenen Designs und bekommen einen Einblick darin\, wie wir bei amore augsburg Canva in unserem täglichen Arbeitsalltag nutzen. \nRegulärer Preis: 149\,- €/Teilnehmer:in\, \nkostenfrei für Mitglieder von Augsburg Marketing \n  \nEin Projekt von Augsburg Marketing in Kooperation mit amore augsburg\, gefördert durch die IHK Schwaben. Dank dieser Unterstützung kann amore augsburg die Leistungen für den Einzelhandel und Gastro kostenfrei anbieten.
URL:https://netzundwerk.com/event/digitallotse-iv-canva-workshop/
LOCATION:Regio Augsburg Wirtschaft\, Karlstraße 2\, Augsburg\, 86150
CATEGORIES:Digitallotse,workshop
ATTACH;FMTTYPE=image/png:https://netzundwerk.com/wp-content/uploads/2022/10/Workshop-1.png
END:VEVENT
END:VCALENDAR